
BEGIN:VCALENDAR
VERSION:2.0
PRODID:-//MarkedsPartner AS//Umbraco CMS//NO
TIMEZONE-ID:Europe/Oslo
X-WR-TIMEZONE:Europe/Oslo


BEGIN:VEVENT
UID:647a9a91807b485b9b0bd3106821ae84
URL:https://umbraco.naeringsforeningen.no/moeter/arkiv/lederskolen_271023/
ORGANIZER;CN=Ola Normann:MAILTO:ola.normann@markedspartner.no
DTSTAMP:20231027T074500Z
DTSTART:20231027T074500Z
DTEND:20231027T110000Z
LAST-MODIFIED:20231030T080014Z
SUMMARY:Lederskolen: Ledelse i konstant endring
DESCRIPTION:Donatella De Paoli er tilbake på Lederskolen! Hun skal forklare hvordan en ny form for ledelse skal hjelpe deg å møte framtidens utfordringer med riktig ledelsestilnærming.
X-ALT-DESC:Donatella De Paoli er tilbake p&#229; Lederskolen! Hun skal forklare hvordan en ny form for ledelse skal hjelpe deg &#229; m&#248;te framtidens utfordringer med riktig ledelsestiln&#230;rming.
LOCATION:BI Stavanger, Byfjordparken 17. 
END:VEVENT


END:VCALENDAR



