
BEGIN:VCALENDAR
VERSION:2.0
PRODID:-//MarkedsPartner AS//Umbraco CMS//NO
TIMEZONE-ID:Europe/Oslo
X-WR-TIMEZONE:Europe/Oslo


BEGIN:VEVENT
UID:9f618bc465ad463799b5f21a27211f28
URL:https://umbraco.naeringsforeningen.no/moeter/arkiv/lederskolen_260124/
ORGANIZER;CN=Ola Normann:MAILTO:ola.normann@markedspartner.no
DTSTAMP:20240126T084500Z
DTSTART:20240126T084500Z
DTEND:20240126T120000Z
LAST-MODIFIED:20240202T085030Z
SUMMARY:Lederskolen: Når bomullsbarna blir voksne. En lederutfordring
DESCRIPTION:Bomullsbarna er barn som er blitt skjermet og beskyttet gjennom hele livet. De er blitt polstret mot alt som kan være mentalt og fysisk skadelig, og har dermed fått begrenset erfaring med å mestre tilværelsens utfordringer.
X-ALT-DESC:Bomullsbarna er barn som er blitt skjermet og beskyttet gjennom hele livet. De er blitt polstret mot alt som kan v&#230;re mentalt og fysisk skadelig, og har dermed f&#229;tt begrenset erfaring med &#229; mestre tilv&#230;relsens utfordringer.
LOCATION:BI Stavanger, Byfjordparken 17. 
END:VEVENT


END:VCALENDAR



