
BEGIN:VCALENDAR
VERSION:2.0
PRODID:-//MarkedsPartner AS//Umbraco CMS//NO
TIMEZONE-ID:Europe/Oslo
X-WR-TIMEZONE:Europe/Oslo


BEGIN:VEVENT
UID:a0b899e82a264867a1f66b662e61203f
URL:https://umbraco.naeringsforeningen.no/moeter/arkiv/lederskolen_251024/
ORGANIZER;CN=Ola Normann:MAILTO:ola.normann@markedspartner.no
DTSTAMP:20241025T074500Z
DTSTART:20241025T074500Z
DTEND:20241025T110000Z
LAST-MODIFIED:20241026T100236Z
SUMMARY:Lederskolen: «Pay it forward» – Samarbeidskultur og prososial motivasjon
DESCRIPTION:Prososial motivasjon er det som gir oss retning og energi når målet er å gjøre en forskjell i andres liv. Enten det handler om problemløsning, kunnskapsdeling, og sosial eller emosjonell støtte. 
Men hvordan få kolleger til å «Pay It Forward»? Kom og lær av Mads Nordmo Arnestad!
X-ALT-DESC:Prososial motivasjon er det som gir oss retning og energi n&#229;r m&#229;let er &#229; gj&#248;re en forskjell i andres liv. Enten det handler om probleml&#248;sning, kunnskapsdeling, og sosial eller emosjonell st&#248;tte. 
Men hvordan f&#229; kolleger til &#229; &#171;Pay It Forward&#187;? Kom og l&#230;r av Mads Nordmo Arnestad!
LOCATION:BI Stavanger, Byfjordparken 17. 
END:VEVENT


END:VCALENDAR



