
BEGIN:VCALENDAR
VERSION:2.0
PRODID:-//MarkedsPartner AS//Umbraco CMS//NO
TIMEZONE-ID:Europe/Oslo
X-WR-TIMEZONE:Europe/Oslo


BEGIN:VEVENT
UID:efced322000a49fd93b7d5a14bf46639
URL:https://umbraco.naeringsforeningen.no/moeter/arkiv/lederskolen_250222/
ORGANIZER;CN=Ola Normann:MAILTO:ola.normann@markedspartner.no
DTSTAMP:20220225T084500Z
DTSTART:20220225T084500Z
DTEND:20220225T120000Z
LAST-MODIFIED:20221031T122751Z
SUMMARY:Lederskolen: Sju råd for å lykkes som leder
DESCRIPTION:Høyskolelektor Frode Solberg har lang ledererfaring, og har drevet med aktiv ledelse, rådgiving og utviklingsprosesser innenfor entreprenørskap, bedriftsutvikling, ledelse, strategi og innovasjon. 
Han vil på Lederskolen dele sine beste råd for å lykkes som leder.
X-ALT-DESC:H&#248;yskolelektor Frode Solberg har lang ledererfaring, og har drevet med aktiv ledelse, r&#229;dgiving og utviklingsprosesser innenfor entrepren&#248;rskap, bedriftsutvikling, ledelse, strategi og innovasjon. 
Han vil p&#229; Lederskolen dele sine beste r&#229;d for &#229; lykkes som leder.
LOCATION:BI Stavanger, Byfjordparken 17.
END:VEVENT


END:VCALENDAR



