
BEGIN:VCALENDAR
VERSION:2.0
PRODID:-//MarkedsPartner AS//Umbraco CMS//NO
TIMEZONE-ID:Europe/Oslo
X-WR-TIMEZONE:Europe/Oslo


BEGIN:VEVENT
UID:a1965d8dcac14704808a4de775563647
URL:https://umbraco.naeringsforeningen.no/moeter/arkiv/lederskolen_241123/
ORGANIZER;CN=Ola Normann:MAILTO:ola.normann@markedspartner.no
DTSTAMP:20231124T084500Z
DTSTART:20231124T084500Z
DTEND:20231124T120000Z
LAST-MODIFIED:20231124T140615Z
SUMMARY:Lederskolen: Å leve på lånt begjær
DESCRIPTION:Samfunnet og våre kommunikasjonsformer er i hurtig endring. For en leder, en merkevarebygger, en formidler er det essensielt å ha innsikt i disse endringene, for å være på høyde med utviklingen og ta relevante grep for å optimalisere kommunikasjonen. Meld deg på og lytt til Knut Kolnar på Lederskolen!
X-ALT-DESC:Samfunnet og v&#229;re kommunikasjonsformer er i hurtig endring. For en leder, en merkevarebygger, en formidler er det essensielt &#229; ha innsikt i disse endringene, for &#229; v&#230;re p&#229; h&#248;yde med utviklingen og ta relevante grep for &#229; optimalisere kommunikasjonen. Meld deg p&#229; og lytt til Knut Kolnar p&#229; Lederskolen!
LOCATION:BI Stavanger, Byfjordparken 17. 
END:VEVENT


END:VCALENDAR



