
BEGIN:VCALENDAR
VERSION:2.0
PRODID:-//MarkedsPartner AS//Umbraco CMS//NO
TIMEZONE-ID:Europe/Oslo
X-WR-TIMEZONE:Europe/Oslo


BEGIN:VEVENT
UID:8d129ed2bfc844c9884ba3888d479fdc
URL:https://umbraco.naeringsforeningen.no/moeter/arkiv/lederskolen_240323/
ORGANIZER;CN=Ola Normann:MAILTO:ola.normann@markedspartner.no
DTSTAMP:20230324T084500Z
DTSTART:20230324T084500Z
DTEND:20230324T120000Z
LAST-MODIFIED:20230325T012347Z
SUMMARY:Lederskolen: Retorikk som tenkemåte for ledere
DESCRIPTION:Retorikk er grunnlaget for allmenn dannelse, og dermed også et viktig rammeverk på arbeidsplassen. Økt innsikt i retorikken kan gi ledere bedre oversikt over og kontroll i samhandlingssituasjoner med medarbeidere og eksterne aktører.
X-ALT-DESC:Retorikk er grunnlaget for allmenn dannelse, og dermed ogs&#229; et viktig rammeverk p&#229; arbeidsplassen. &#216;kt innsikt i retorikken kan gi ledere bedre oversikt over og kontroll i samhandlingssituasjoner med medarbeidere og eksterne akt&#248;rer.
LOCATION:BI Stavanger, Byfjordparken 17
END:VEVENT


END:VCALENDAR



