
BEGIN:VCALENDAR
VERSION:2.0
PRODID:-//MarkedsPartner AS//Umbraco CMS//NO
TIMEZONE-ID:Europe/Oslo
X-WR-TIMEZONE:Europe/Oslo


BEGIN:VEVENT
UID:3a6490abb78d42a0bb64c9a80ea5c448
URL:https://umbraco.naeringsforeningen.no/moeter/arkiv/lederskolen_230922/
ORGANIZER;CN=Ola Normann:MAILTO:ola.normann@markedspartner.no
DTSTAMP:20220923T074500Z
DTSTART:20220923T074500Z
DTEND:20220923T110000Z
LAST-MODIFIED:20221031T115743Z
SUMMARY:Lederskolen: Slik tar du den vanskelige samtalen
DESCRIPTION:Ide Katrine Birkeland gir deg de rette verktøyene for å bygge gode relasjoner og finne løsninger på de vanskelige samtalene på arbeidsplassen. Når er «det rette tidspunktet» for å ta opp et utfordrende tema med en medarbeider? Slik lykkes du med å bygge tillit samtidig som problemet blir løst!
X-ALT-DESC:Ide Katrine Birkeland gir deg de rette verkt&#248;yene for &#229; bygge gode relasjoner og finne l&#248;sninger p&#229; de vanskelige samtalene p&#229; arbeidsplassen. N&#229;r er &#171;det rette tidspunktet&#187; for &#229; ta opp et utfordrende tema med en medarbeider? Slik lykkes du med &#229; bygge tillit samtidig som problemet blir l&#248;st!
LOCATION:BI Stavanger
END:VEVENT


END:VCALENDAR



