
BEGIN:VCALENDAR
VERSION:2.0
PRODID:-//MarkedsPartner AS//Umbraco CMS//NO
TIMEZONE-ID:Europe/Oslo
X-WR-TIMEZONE:Europe/Oslo


BEGIN:VEVENT
UID:c29249eeb6e44887b6f8401af9e0c998
URL:https://umbraco.naeringsforeningen.no/moeter/arkiv/lederskolen_220324/
ORGANIZER;CN=Ola Normann:MAILTO:ola.normann@markedspartner.no
DTSTAMP:20240322T084500Z
DTSTART:20240322T084500Z
DTEND:20240322T120000Z
LAST-MODIFIED:20240322T130353Z
SUMMARY:Lederskolen: Helsefremmende ledelse
DESCRIPTION:Arbeidslivet er en av viktigste arenaene for å skape og opprettholde god fysisk og mental helse. Bli med på Lederskolen med Kari Einarsen og lær om hvilken lederatferd og hvilke tiltak som kan gi helsefremmende resultater for organisasjoner, ledere og ansatte.
X-ALT-DESC:Arbeidslivet er en av viktigste arenaene for &#229; skape og opprettholde god fysisk og mental helse. Bli med p&#229; Lederskolen med Kari Einarsen og l&#230;r om hvilken lederatferd og hvilke tiltak som kan gi helsefremmende resultater for organisasjoner, ledere og ansatte.
LOCATION:BI Stavanger, Byfjordparken 17. 
END:VEVENT


END:VCALENDAR



