
BEGIN:VCALENDAR
VERSION:2.0
PRODID:-//MarkedsPartner AS//Umbraco CMS//NO
TIMEZONE-ID:Europe/Oslo
X-WR-TIMEZONE:Europe/Oslo


BEGIN:VEVENT
UID:e98ebf6cc1dd4df187707251033116eb
URL:https://umbraco.naeringsforeningen.no/moeter/arkiv/lederskolen_210325/
ORGANIZER;CN=Ola Normann:MAILTO:ola.normann@markedspartner.no
DTSTAMP:20250321T084500Z
DTSTART:20250321T084500Z
DTEND:20250321T120000Z
LAST-MODIFIED:20250324T072145Z
SUMMARY:Lederskolen: Slik gjennomfører du de beste møtene
DESCRIPTION:«People who enjoy meetings should not be in charge of anything» – hvordan gjøre møter mer effektive og interessante.
X-ALT-DESC:&#171;People who enjoy meetings should not be in charge of anything&#187; – hvordan gj&#248;re m&#248;ter mer effektive og interessante.
LOCATION:BI Stavanger, Byfjordparken 17. 
END:VEVENT


END:VCALENDAR



