
BEGIN:VCALENDAR
VERSION:2.0
PRODID:-//MarkedsPartner AS//Umbraco CMS//NO
TIMEZONE-ID:Europe/Oslo
X-WR-TIMEZONE:Europe/Oslo


BEGIN:VEVENT
UID:dba6b3e6449c4eba90bc4e317642da40
URL:https://umbraco.naeringsforeningen.no/moeter/arkiv/lederskolen_210225/
ORGANIZER;CN=Ola Normann:MAILTO:ola.normann@markedspartner.no
DTSTAMP:20250221T084500Z
DTSTART:20250221T084500Z
DTEND:20250221T120000Z
LAST-MODIFIED:20250226T115810Z
SUMMARY:Lederskolen: Gjennomføringskraft og pragmatisk ledelse
DESCRIPTION:Vi forføres av karismatiske ledere med hårete mål og glansede visjoner, og undervurderer ledere som faktisk får ting gjort. Høyskolelektor og lederutvikler Steinar Bjartveit mener vi har mye å lære av hærføreren Napoleon.
X-ALT-DESC:Vi forf&#248;res av karismatiske ledere med h&#229;rete m&#229;l og glansede visjoner, og undervurderer ledere som faktisk f&#229;r ting gjort. H&#248;yskolelektor og lederutvikler Steinar Bjartveit mener vi har mye &#229; l&#230;re av h&#230;rf&#248;reren Napoleon.
LOCATION:BI Stavanger, Byfjordparken 17. 
END:VEVENT


END:VCALENDAR



