
BEGIN:VCALENDAR
VERSION:2.0
PRODID:-//MarkedsPartner AS//Umbraco CMS//NO
TIMEZONE-ID:Europe/Oslo
X-WR-TIMEZONE:Europe/Oslo


BEGIN:VEVENT
UID:4b416a6b3b234898a07f16a196b1fb2b
URL:https://umbraco.naeringsforeningen.no/moeter/arkiv/lederskolen_200924/
ORGANIZER;CN=Ola Normann:MAILTO:ola.normann@markedspartner.no
DTSTAMP:20240920T074500Z
DTSTART:20240920T074500Z
DTEND:20240920T110000Z
LAST-MODIFIED:20240920T124539Z
SUMMARY:Lederskolen: Kongstanken – hvorfor vil du være leder? 
DESCRIPTION:Hva skiller lederskap fra administrasjon? Det er ikke lenger nok å ha tilegnet seg ferdigheter som administrator. Ledere må stå for noe, skape mening for folk og meisle ut en framtid for organisasjonen. Hva er det som motiverer og driver de som ønsker å ta på seg lederrollen? I følge psykolog, filosof og økonom Kjetil Eikeset ligger kjernen i alt lederskap i Ibsens forfatterskap.
X-ALT-DESC:Hva skiller lederskap fra administrasjon? Det er ikke lenger nok &#229; ha tilegnet seg ferdigheter som administrator. Ledere m&#229; st&#229; for noe, skape mening for folk og meisle ut en framtid for organisasjonen.&#160;Hva er det som motiverer og driver de som &#248;nsker &#229; ta p&#229; seg lederrollen? I f&#248;lge psykolog, filosof og &#248;konom Kjetil Eikeset ligger kjernen i alt lederskap i Ibsens forfatterskap.
LOCATION:BI Stavanger, Byfjordparken 17. 
END:VEVENT


END:VCALENDAR



