
BEGIN:VCALENDAR
VERSION:2.0
PRODID:-//MarkedsPartner AS//Umbraco CMS//NO
TIMEZONE-ID:Europe/Oslo
X-WR-TIMEZONE:Europe/Oslo


BEGIN:VEVENT
UID:5a9bc2135336493eb3bae31142f30e96
URL:https://umbraco.naeringsforeningen.no/moeter/arkiv/lederskolen_181122/
ORGANIZER;CN=Ola Normann:MAILTO:ola.normann@markedspartner.no
DTSTAMP:20221118T084500Z
DTSTART:20221118T084500Z
DTEND:20221118T120000Z
LAST-MODIFIED:20221118T123701Z
SUMMARY:Lederskolen: Når viktige beslutninger skal tas
DESCRIPTION:Når bør en beslutning foretas og hvordan bør du kritisk vurdere de økonomiske effektene av ulike typer beslutninger? Bli med på Lederskolen og lær hvordan du tar kloke valg av førsteamanuensis Pål Berthling-Hansen.
X-ALT-DESC:N&#229;r b&#248;r en beslutning foretas og hvordan b&#248;r du kritisk vurdere de &#248;konomiske effektene av ulike typer beslutninger? Bli med p&#229; Lederskolen og l&#230;r hvordan du tar kloke valg av f&#248;rsteamanuensis P&#229;l Berthling-Hansen.
LOCATION:BI Stavanger
END:VEVENT


END:VCALENDAR



