
BEGIN:VCALENDAR
VERSION:2.0
PRODID:-//MarkedsPartner AS//Umbraco CMS//NO
TIMEZONE-ID:Europe/Oslo
X-WR-TIMEZONE:Europe/Oslo


BEGIN:VEVENT
UID:b6979d80d97e43b6bcc0a9e1cab6803a
URL:https://umbraco.naeringsforeningen.no/moeter/arkiv/lederskolen_120523/
ORGANIZER;CN=Ola Normann:MAILTO:ola.normann@markedspartner.no
DTSTAMP:20230512T074500Z
DTSTART:20230512T074500Z
DTEND:20230512T110000Z
LAST-MODIFIED:20230513T143645Z
SUMMARY:Lederskolen: Meningsfylte mål og meningen med jobben
DESCRIPTION:Management of meaning = meningsfylte mål og mening med jobben. Det å oppleve en meningsfylt arbeidsplass er viktig for alle. Formål er noe vi skaper med riktig tilnærming, og da kan nesten enhver jobb bli meningsfull!
X-ALT-DESC:Management of meaning = meningsfylte m&#229;l og mening med jobben. Det &#229; oppleve en meningsfylt arbeidsplass er viktig for alle. Form&#229;l er noe vi skaper med riktig tiln&#230;rming, og da kan nesten enhver jobb bli meningsfull!
LOCATION:BI Stavanger
END:VEVENT


END:VCALENDAR



