
BEGIN:VCALENDAR
VERSION:2.0
PRODID:-//MarkedsPartner AS//Umbraco CMS//NO
TIMEZONE-ID:Europe/Oslo
X-WR-TIMEZONE:Europe/Oslo


BEGIN:VEVENT
UID:575843b64e294be688604b1655775721
URL:https://umbraco.naeringsforeningen.no/moeter/arkiv/lederskolen_091222/
ORGANIZER;CN=Ola Normann:MAILTO:ola.normann@markedspartner.no
DTSTAMP:20221209T084500Z
DTSTART:20221209T084500Z
DTEND:20221209T120000Z
LAST-MODIFIED:20221211T202118Z
SUMMARY:Lederskolen: Å lære av suksess og feil er lettere sagt enn gjort!
DESCRIPTION:Læring er en ferdighet i seg selv, men hva skaper tryggheten som fremmer denne ferdigheten i ditt lederskap? Lær av eksperten på området, Riana Steen!
X-ALT-DESC:L&#230;ring er en ferdighet i seg selv, men hva skaper tryggheten som fremmer denne ferdigheten i ditt lederskap? L&#230;r av eksperten p&#229; omr&#229;det, Riana Steen!
LOCATION:BI Stavanger
END:VEVENT


END:VCALENDAR



