
BEGIN:VCALENDAR
VERSION:2.0
PRODID:-//MarkedsPartner AS//Umbraco CMS//NO
TIMEZONE-ID:Europe/Oslo
X-WR-TIMEZONE:Europe/Oslo


BEGIN:VEVENT
UID:b98a21dc5b42468395411881c4f538a1
URL:https://umbraco.naeringsforeningen.no/moeter/arkiv/lederskolen_081223/
ORGANIZER;CN=Ola Normann:MAILTO:ola.normann@markedspartner.no
DTSTAMP:20231208T084500Z
DTSTART:20231208T084500Z
DTEND:20231208T120000Z
LAST-MODIFIED:20231208T140307Z
SUMMARY:Lederskolen: 50 shades of working life. Hva må til for et godt arbeidsmiljø?
DESCRIPTION:Kari Einarsen gir deg gode tips for å skape et godt arbeidsmiljø. Einarsen forteller deg hva du, sammen med dine medarbeidere, kan gjøre på din arbeidsplass. Mestrer du disse tipsene, får du ut potensialet i alle.
X-ALT-DESC:Kari Einarsen gir deg gode tips for &#229; skape et godt arbeidsmilj&#248;. Einarsen forteller deg hva du, sammen med dine medarbeidere, kan gj&#248;re p&#229; din arbeidsplass. Mestrer du disse tipsene, f&#229;r du ut potensialet i alle.
LOCATION:BI Stavanger, Byfjordparken 17. 
END:VEVENT


END:VCALENDAR



