
BEGIN:VCALENDAR
VERSION:2.0
PRODID:-//MarkedsPartner AS//Umbraco CMS//NO
TIMEZONE-ID:Europe/Oslo
X-WR-TIMEZONE:Europe/Oslo


BEGIN:VEVENT
UID:7be6de7b486145cfb9056e32fad122ab
URL:https://umbraco.naeringsforeningen.no/moeter/arkiv/lederskolen_061224/
ORGANIZER;CN=Ola Normann:MAILTO:ola.normann@markedspartner.no
DTSTAMP:20241206T084500Z
DTSTART:20241206T084500Z
DTEND:20241206T120000Z
LAST-MODIFIED:20241209T090301Z
SUMMARY:Lederskolen: Hva innebærer det å bli ledet?
DESCRIPTION:Svært mye fokus er på ledelse og det å lede andre.  Dette foredraget snur perspektivet 180 grader og vil drøfte hvordan det oppleves å bli ledet, og vilkårene for at ledelse virkelig skal kunne fungere.
Hvorfor skal du som leder komme å høre på dette temaet? Jo, fordi all ledelse i bunn og grunn handler om tillit og aksept fra de du skal lede.
X-ALT-DESC:Sv&#230;rt mye fokus er p&#229; ledelse og det &#229; lede andre.  Dette foredraget snur perspektivet 180 grader og vil dr&#248;fte hvordan det oppleves &#229; bli ledet, og vilk&#229;rene for at ledelse virkelig skal kunne fungere.
Hvorfor skal du som leder komme &#229; h&#248;re p&#229; dette temaet? Jo, fordi all ledelse i bunn og grunn handler om tillit og aksept fra de du skal lede.
LOCATION:BI Stavanger, Byfjordparken 17. 
END:VEVENT


END:VCALENDAR



