
BEGIN:VCALENDAR
VERSION:2.0
PRODID:-//MarkedsPartner AS//Umbraco CMS//NO
TIMEZONE-ID:Europe/Oslo
X-WR-TIMEZONE:Europe/Oslo


BEGIN:VEVENT
UID:8e95958f7e204342b0f1af1959dc5067
URL:https://umbraco.naeringsforeningen.no/moeter/arkiv/lederskolen_030223/
ORGANIZER;CN=Ola Normann:MAILTO:ola.normann@markedspartner.no
DTSTAMP:20230203T084500Z
DTSTART:20230203T084500Z
DTEND:20230203T120000Z
LAST-MODIFIED:20230203T165839Z
SUMMARY:Lederskolen: Kunsten å få dine ansatte til å blomstre
DESCRIPTION:Hva kan ledere gjøre for å bygge en kultur der ansatte får muligheten til å bli den beste utgaven av seg selv? Professor Anders Dysvik gir råd om hvordan du får det til.
X-ALT-DESC:Hva kan ledere gj&#248;re for &#229; bygge en kultur der ansatte f&#229;r muligheten til &#229; bli den beste utgaven av seg selv? Professor Anders Dysvik gir r&#229;d om hvordan du f&#229;r det til.
LOCATION:BI Stavanger, Byfjordparken 17
END:VEVENT


END:VCALENDAR



