
BEGIN:VCALENDAR
VERSION:2.0
PRODID:-//MarkedsPartner AS//Umbraco CMS//NO
TIMEZONE-ID:Europe/Oslo
X-WR-TIMEZONE:Europe/Oslo


BEGIN:VEVENT
UID:dc3c6e7f48f3427fa9674756ce9b9734
URL:https://umbraco.naeringsforeningen.no/moeter/arkiv/lederskolen_020623/
ORGANIZER;CN=Ola Normann:MAILTO:ola.normann@markedspartner.no
DTSTAMP:20230602T074500Z
DTSTART:20230602T074500Z
DTEND:20230602T110000Z
LAST-MODIFIED:20230605T134335Z
SUMMARY:Lederskolen: Markedsføring, relasjoner og nettverk
DESCRIPTION:Morten H. Abrahamsen er førsteamanuensis ved BI Campus Stavanger og er foredragsholder på denne samlingen hvor strategier for nettverksbygging for bedrifter er i fokus.
X-ALT-DESC:Morten H. Abrahamsen er f&#248;rsteamanuensis ved BI Campus Stavanger og er foredragsholder p&#229; denne samlingen hvor strategier for nettverksbygging for bedrifter er i fokus.
LOCATION:BI Stavanger, Byfjordparken 17. 
END:VEVENT


END:VCALENDAR



