
BEGIN:VCALENDAR
VERSION:2.0
PRODID:-//MarkedsPartner AS//Umbraco CMS//NO
TIMEZONE-ID:Europe/Oslo
X-WR-TIMEZONE:Europe/Oslo


BEGIN:VEVENT
UID:547f0323f2374b11828bf49637c85364
URL:https://umbraco.naeringsforeningen.no/moeter/arkiv/lederskolen-iv_240420/
ORGANIZER;CN=Ola Normann:MAILTO:ola.normann@markedspartner.no
DTSTAMP:20200424T074500Z
DTSTART:20200424T074500Z
DTEND:20200424T110000Z
LAST-MODIFIED:20221031T120729Z
SUMMARY:Lederskolen IV: Strategi og ledelse med Torger Reve
DESCRIPTION:UTSATT. NY DATO KOMMER. Torger Reve er en av BIs aller mest profilerte anerkjente foredragsholdere. Nå kommer han til Lederskolen for å snakke om strategi og ledelse, hvordan vi skaper nytt næringsliv og nye arbeidsplasser: Om kompetanse, klynger og innovative økosystemer.
X-ALT-DESC:UTSATT. NY DATO KOMMER. Torger Reve er en av BIs aller mest profilerte anerkjente foredragsholdere. N&#229; kommer han til Lederskolen for &#229; snakke om strategi og ledelse, hvordan vi skaper nytt n&#230;ringsliv og nye arbeidsplasser: Om kompetanse, klynger og innovative &#248;kosystemer.
LOCATION:BI Stavanger
END:VEVENT


END:VCALENDAR



