
BEGIN:VCALENDAR
VERSION:2.0
PRODID:-//MarkedsPartner AS//Umbraco CMS//NO
TIMEZONE-ID:Europe/Oslo
X-WR-TIMEZONE:Europe/Oslo


BEGIN:VEVENT
UID:36d93cb43aae4b9da2aafd2e11745fe6
URL:https://umbraco.naeringsforeningen.no/moeter/arkiv/lederskolen-iv_201204/
ORGANIZER;CN=Ola Normann:MAILTO:ola.normann@markedspartner.no
DTSTAMP:20201204T100000Z
DTSTART:20201204T100000Z
DTEND:20201204T120000Z
LAST-MODIFIED:20221031T115609Z
SUMMARY:Lederskolen: Tilstedeværende ledelse med Donatella de Paoli
DESCRIPTION:DIGITALKONFERANSE: – Skal vi skape felleskap og motivasjon om oppgavene og samarbeid i kriser, må vi få til en tilstedeværende og relasjonsorientert ledelse, sier førsteamanuensis Donatella de Paoli.
X-ALT-DESC:DIGITALKONFERANSE: – Skal vi skape felleskap og motivasjon om oppgavene og samarbeid i kriser, m&#229; vi f&#229; til en tilstedev&#230;rende og relasjonsorientert ledelse, sier f&#248;rsteamanuensis Donatella de Paoli.
LOCATION:Online
END:VEVENT


END:VCALENDAR



