
BEGIN:VCALENDAR
VERSION:2.0
PRODID:-//MarkedsPartner AS//Umbraco CMS//NO
TIMEZONE-ID:Europe/Oslo
X-WR-TIMEZONE:Europe/Oslo


BEGIN:VEVENT
UID:5aa52ca3b947432090be0eeed1a1fcb5
URL:https://umbraco.naeringsforeningen.no/moeter/arkiv/lederskolen-iv/
ORGANIZER;CN=Ola Normann:MAILTO:ola.normann@markedspartner.no
DTSTAMP:20191206T084500Z
DTSTART:20191206T084500Z
DTEND:20191206T120000Z
LAST-MODIFIED:20221031T115726Z
SUMMARY:Lederskolen IV: Fire råd til fremtidens bedrifter
DESCRIPTION:Bedrifter må bli smartere og smidigere for å takle raske endringer og krav om innovasjon og fleksibilitet. Vegard Kolbjørnsrud gir deg fire konkrete råd om hvordan du skaper en organisasjonskultur for framtiden.
X-ALT-DESC:Bedrifter m&#229; bli smartere og smidigere for &#229; takle raske endringer og krav om innovasjon og fleksibilitet. Vegard Kolbj&#248;rnsrud gir deg fire konkrete r&#229;d om hvordan du skaper en organisasjonskultur for framtiden.
LOCATION:BI Stavanger, Byfjordparken 17
END:VEVENT


END:VCALENDAR



