
BEGIN:VCALENDAR
VERSION:2.0
PRODID:-//MarkedsPartner AS//Umbraco CMS//NO
TIMEZONE-ID:Europe/Oslo
X-WR-TIMEZONE:Europe/Oslo


BEGIN:VEVENT
UID:56cde74e30e0425a8ee74e61fe0b978a
URL:https://umbraco.naeringsforeningen.no/moeter/arkiv/lederskolen-iii_201120/
ORGANIZER;CN=Ola Normann:MAILTO:ola.normann@markedspartner.no
DTSTAMP:20201120T100000Z
DTSTART:20201120T100000Z
DTEND:20201120T120000Z
LAST-MODIFIED:20221031T115401Z
SUMMARY:Lederskolen: Ledelse i den digitale tidsalder med Morten William Knudsen
DESCRIPTION:DIGITALKONFERANSE: Hvordan skape identitet og engasjement hos medarbeiderne når hjemmekontor, Teams, Zoom og Skype er kommet for å bli?
X-ALT-DESC:DIGITALKONFERANSE: Hvordan skape identitet og engasjement hos medarbeiderne n&#229;r hjemmekontor, Teams, Zoom og Skype er kommet for &#229; bli?
LOCATION:Online
END:VEVENT


END:VCALENDAR



