
BEGIN:VCALENDAR
VERSION:2.0
PRODID:-//MarkedsPartner AS//Umbraco CMS//NO
TIMEZONE-ID:Europe/Oslo
X-WR-TIMEZONE:Europe/Oslo


BEGIN:VEVENT
UID:f9796fbecb7d414f810567fe3634cb3c
URL:https://umbraco.naeringsforeningen.no/moeter/arkiv/lederskolen-iii/
ORGANIZER;CN=Ola Normann:MAILTO:ola.normann@markedspartner.no
DTSTAMP:20191122T084500Z
DTSTART:20191122T084500Z
DTEND:20191122T120000Z
LAST-MODIFIED:20221031T114353Z
SUMMARY:Lederskolen III: Hvordan vinne forhandlinger
DESCRIPTION:Hva skal til for å bli en god forhandler? Denne gangen på Lederskolen kommer Morten William Knudsen for å gi oss en innføring i forhandlingsstrategi og taktikk.
X-ALT-DESC:Hva skal til for &#229; bli en god forhandler? Denne gangen p&#229; Lederskolen kommer Morten William Knudsen for &#229; gi oss en innf&#248;ring i forhandlingsstrategi og taktikk.
LOCATION:BI Stavanger, Byfjordparken 17
END:VEVENT


END:VCALENDAR



