
BEGIN:VCALENDAR
VERSION:2.0
PRODID:-//MarkedsPartner AS//Umbraco CMS//NO
TIMEZONE-ID:Europe/Oslo
X-WR-TIMEZONE:Europe/Oslo


BEGIN:VEVENT
UID:ecafa432f54d4ae3a5cb3a5342e88ff1
URL:https://umbraco.naeringsforeningen.no/moeter/arkiv/lederskolen-ii_201030/
ORGANIZER;CN=Ola Normann:MAILTO:ola.normann@markedspartner.no
DTSTAMP:20201030T100000Z
DTSTART:20201030T100000Z
DTEND:20201030T120000Z
LAST-MODIFIED:20221031T114425Z
SUMMARY:Webinar Lederskolen: Forhandlingsteknikk
DESCRIPTION:Hvorfor forhandling og forhandlingsteknikk? Og hvordan kan vi benytte forhandling best mulig i næringslivet? Meld deg på og hør dyktige Gillian Warner-Søderholm som har vunnet flere "Lecturer of the Year"-priser.
X-ALT-DESC:Hvorfor forhandling og forhandlingsteknikk? Og hvordan kan vi benytte forhandling best mulig i n&#230;ringslivet? Meld deg p&#229; og h&#248;r dyktige Gillian Warner-S&#248;derholm som har vunnet flere &quot;Lecturer of the Year&quot;-priser.
LOCATION:webinar
END:VEVENT


END:VCALENDAR



