
BEGIN:VCALENDAR
VERSION:2.0
PRODID:-//MarkedsPartner AS//Umbraco CMS//NO
TIMEZONE-ID:Europe/Oslo
X-WR-TIMEZONE:Europe/Oslo


BEGIN:VEVENT
UID:517ea916591443418e539afc72124786
URL:https://umbraco.naeringsforeningen.no/moeter/arkiv/lederskolen-ii_140220/
ORGANIZER;CN=Ola Normann:MAILTO:ola.normann@markedspartner.no
DTSTAMP:20200214T084500Z
DTSTART:20200214T084500Z
DTEND:20200214T120000Z
LAST-MODIFIED:20221031T115633Z
SUMMARY:Lederskolen II: Nytenkning og gunstig intelligens
DESCRIPTION:Din gunstige intelligens trumfer kunstig intelligens, mener Trond Kjærstad. Nå besøker han Lederskolen for å gi råd om hvordan vi kan få mer ut av medarbeidernes kompetanse. Hvordan fremme nytenkning i organisasjonen og hos hver enkelt?
X-ALT-DESC:Din gunstige intelligens trumfer kunstig intelligens, mener Trond Kj&#230;rstad. N&#229; bes&#248;ker han Lederskolen for &#229; gi r&#229;d om hvordan vi kan f&#229; mer ut av medarbeidernes kompetanse. Hvordan fremme nytenkning i organisasjonen og hos hver enkelt?
LOCATION:BI Stavanger
END:VEVENT


END:VCALENDAR



