
BEGIN:VCALENDAR
VERSION:2.0
PRODID:-//MarkedsPartner AS//Umbraco CMS//NO
TIMEZONE-ID:Europe/Oslo
X-WR-TIMEZONE:Europe/Oslo


BEGIN:VEVENT
UID:2668285074f04c6380e4a6330be9b3d7
URL:https://umbraco.naeringsforeningen.no/moeter/arkiv/lederskolen-ii/
ORGANIZER;CN=Ola Normann:MAILTO:ola.normann@markedspartner.no
DTSTAMP:20191025T074500Z
DTSTART:20191025T074500Z
DTEND:20191025T110000Z
LAST-MODIFIED:20221031T113604Z
SUMMARY:Lederskolen II: Bygg en organisasjonskultur som rocker
DESCRIPTION:«Welcome to the band»! Slik ønskes nyansatte velkommen til Forgerock i San Francisco.  Adgangskortet til ansatte i Forgerock er utformet som et backstage-pass, og hvert år reiser medarbeiderne på rockefestivaler på teambuilding.  Lasse Andresen kommer til Lederskolen for å dele sin rocka organisasjonskultur.
X-ALT-DESC:&#171;Welcome to the band&#187;! Slik &#248;nskes nyansatte velkommen til Forgerock i San Francisco.  Adgangskortet til ansatte i Forgerock er utformet som et backstage-pass, og hvert &#229;r reiser medarbeiderne p&#229; rockefestivaler p&#229; teambuilding.  Lasse Andresen kommer til Lederskolen for &#229; dele sin rocka organisasjonskultur.
LOCATION:BI Stavanger, Byfjordparken 17
END:VEVENT


END:VCALENDAR



