
BEGIN:VCALENDAR
VERSION:2.0
PRODID:-//MarkedsPartner AS//Umbraco CMS//NO
TIMEZONE-ID:Europe/Oslo
X-WR-TIMEZONE:Europe/Oslo


BEGIN:VEVENT
UID:760ce46e900e488b88c4b73fd8286736
URL:https://umbraco.naeringsforeningen.no/moeter/arkiv/lederskolen-i_240120/
ORGANIZER;CN=Ola Normann:MAILTO:ola.normann@markedspartner.no
DTSTAMP:20200124T084500Z
DTSTART:20200124T084500Z
DTEND:20200124T120000Z
LAST-MODIFIED:20221031T115859Z
SUMMARY:Lederskolen I: Grønne forretningsmodeller med Cecilie Staude
DESCRIPTION:Cecilie Staude mener det er enorme muligheter for verdiskapning i grensesnittet mellom ny teknologi, nye markeder og bærekraft. Nå kommer hun til Lederskolen for å lære oss om grønn forretningsdrift og hvordan du kan gjøre det til lønnsom virksomhet – også for deg.
X-ALT-DESC:Cecilie Staude mener det er enorme muligheter for verdiskapning i grensesnittet mellom ny teknologi, nye markeder og b&#230;rekraft. N&#229; kommer hun til Lederskolen for &#229; l&#230;re oss om gr&#248;nn forretningsdrift og hvordan du kan gj&#248;re det til l&#248;nnsom virksomhet – ogs&#229; for deg.
LOCATION:BI Stavanger, Byfjordparken 17
END:VEVENT


END:VCALENDAR



