
BEGIN:VCALENDAR
VERSION:2.0
PRODID:-//MarkedsPartner AS//Umbraco CMS//NO
TIMEZONE-ID:Europe/Oslo
X-WR-TIMEZONE:Europe/Oslo


BEGIN:VEVENT
UID:665cb92955664e67a96f7111edbda8ec
URL:https://umbraco.naeringsforeningen.no/moeter/arkiv/lederskolen-i_200925/
ORGANIZER;CN=Ola Normann:MAILTO:ola.normann@markedspartner.no
DTSTAMP:20200925T074500Z
DTSTART:20200925T074500Z
DTEND:20200925T110000Z
LAST-MODIFIED:20221031T113925Z
SUMMARY:Lederskolen: Strategi og ledelse med Torger Reve
DESCRIPTION:Torger Reve er en av BIs mest profilerte og anerkjente foredragsholdere. Nå kommer han til Lederskolen for å snakke om strategi og ledelse, hvordan vi skaper nytt næringsliv og nye arbeidsplasser: Om kompetanse, klynger og innovative økosystemer.
X-ALT-DESC:Torger Reve er en av BIs mest profilerte og anerkjente foredragsholdere. N&#229; kommer han til Lederskolen for &#229; snakke om strategi og ledelse, hvordan vi skaper nytt n&#230;ringsliv og nye arbeidsplasser: Om kompetanse, klynger og innovative &#248;kosystemer.
LOCATION:BI Stavanger, Byfjordparken 17
END:VEVENT


END:VCALENDAR



