
BEGIN:VCALENDAR
VERSION:2.0
PRODID:-//MarkedsPartner AS//Umbraco CMS//NO
TIMEZONE-ID:Europe/Oslo
X-WR-TIMEZONE:Europe/Oslo


BEGIN:VEVENT
UID:54c6364379444f71bdb80eb3d6a74882
URL:https://umbraco.naeringsforeningen.no/moeter/arkiv/lederskolen-i/
ORGANIZER;CN=Ola Normann:MAILTO:ola.normann@markedspartner.no
DTSTAMP:20190927T074500Z
DTSTART:20190927T074500Z
DTEND:20190927T110000Z
LAST-MODIFIED:20221031T113457Z
SUMMARY:Lederskolen I: Den moderne leders kokebok
DESCRIPTION:Verden er i endring og ting går hurtigere, er mer usikker, tvetydig og kompleks. Det er gjort mange studier på at psykologisk trygghet ser ut til å være det viktigste ledere fremover må bruke tiden sin på å skape i organisasjoner og team for å imøtekomme de nye kravene. Lars Hæhre forteller oss hvordan.
X-ALT-DESC:Verden er i endring og ting g&#229;r hurtigere, er mer usikker, tvetydig og kompleks. Det er gjort mange studier p&#229; at psykologisk trygghet ser ut til &#229; v&#230;re det viktigste ledere fremover m&#229; bruke tiden sin p&#229; &#229; skape i organisasjoner og team for &#229; im&#248;tekomme de nye kravene. Lars H&#230;hre forteller oss hvordan.
LOCATION:BI Stavanger, Byfjordparken 17
END:VEVENT


END:VCALENDAR



