
BEGIN:VCALENDAR
VERSION:2.0
PRODID:-//MarkedsPartner AS//Umbraco CMS//NO
TIMEZONE-ID:Europe/Oslo
X-WR-TIMEZONE:Europe/Oslo


BEGIN:VEVENT
UID:22c998ad4255418a8f79789e6f454b34
URL:https://umbraco.naeringsforeningen.no/moeter/arkiv/leanworkshop-kultur011221/
ORGANIZER;CN=Ola Normann:MAILTO:ola.normann@markedspartner.no
DTSTAMP:20211201T080000Z
DTSTART:20211201T080000Z
DTEND:20211201T113000Z
LAST-MODIFIED:20221031T123230Z
SUMMARY:Workshop: Leankultur og ledelse
DESCRIPTION:For å lykkes i arbeidet med Lean, er vi helt avhengige av dyktige, bevisste ledere. Bli med på workshop om Lean-ledelse og kultur!
X-ALT-DESC:For &#229; lykkes i arbeidet med Lean, er vi helt avhengige av dyktige, bevisste ledere. Bli med p&#229; workshop om Lean-ledelse og kultur!
LOCATION:Rosenkildehuset
END:VEVENT


END:VCALENDAR



