
BEGIN:VCALENDAR
VERSION:2.0
PRODID:-//MarkedsPartner AS//Umbraco CMS//NO
TIMEZONE-ID:Europe/Oslo
X-WR-TIMEZONE:Europe/Oslo


BEGIN:VEVENT
UID:b5cd2877666a4f18b6e18e2692a7d21d
URL:https://umbraco.naeringsforeningen.no/moeter/arkiv/leandagen2023/
ORGANIZER;CN=Ola Normann:MAILTO:ola.normann@markedspartner.no
DTSTAMP:20230427T070000Z
DTSTART:20230427T070000Z
DTEND:20230427T120000Z
LAST-MODIFIED:20230428T121128Z
SUMMARY:Lean-dagen 2023: Digitalisering på godt og vondt
DESCRIPTION:Digitalisering bidrar til bedre flyt og mer effektiv bruk av ressursene. Samtidig innebærer digitaliseringen fallgruber. Årets Lean-dag handler om begge deler!
X-ALT-DESC:Digitalisering bidrar til bedre flyt og mer effektiv bruk av ressursene. Samtidig inneb&#230;rer digitaliseringen fallgruber. &#197;rets Lean-dag handler om begge deler!
LOCATION:Clarion Hotel Energy, Ishockeyveien 2, Stavanger
END:VEVENT


END:VCALENDAR



