
BEGIN:VCALENDAR
VERSION:2.0
PRODID:-//MarkedsPartner AS//Umbraco CMS//NO
TIMEZONE-ID:Europe/Oslo
X-WR-TIMEZONE:Europe/Oslo


BEGIN:VEVENT
UID:f4cfbe781067478988402f6e1cf94cf6
URL:https://umbraco.naeringsforeningen.no/moeter/arkiv/leandagen2022_080622/
ORGANIZER;CN=Ola Normann:MAILTO:ola.normann@markedspartner.no
DTSTAMP:20220608T070000Z
DTSTART:20220608T070000Z
DTEND:20220608T123000Z
LAST-MODIFIED:20221031T121859Z
SUMMARY:LEANDAGEN 2022 med Niklas Modig
DESCRIPTION:Hvordan skape en sterk kultur for forbedring? Dette er hovedtema for Lean-dagen i år. Niklas Modig er en av Skandinavias fremste leaneksperter, Han er med oss den 8. juni.  Det samme er næringsminister Jan Christian Vestre, Laila Neverdahl fra EiendomsMegler 1, Morten Warland fra Stavanger Symfoniorkester, Kenneth Gilje fra Gilje Tre og mange flere. Velkommen til årets store leankonferanse.
X-ALT-DESC:Hvordan skape en sterk kultur for forbedring? Dette er hovedtema for Lean-dagen i &#229;r. Niklas Modig er en av Skandinavias fremste leaneksperter, Han er med oss den 8. juni.  Det samme er n&#230;ringsminister Jan Christian Vestre, Laila Neverdahl fra EiendomsMegler 1, Morten Warland fra Stavanger Symfoniorkester, Kenneth Gilje fra Gilje Tre og mange flere. Velkommen til &#229;rets store leankonferanse.
LOCATION:Clarion Stavanger Hotell
END:VEVENT


END:VCALENDAR



