
BEGIN:VCALENDAR
VERSION:2.0
PRODID:-//MarkedsPartner AS//Umbraco CMS//NO
TIMEZONE-ID:Europe/Oslo
X-WR-TIMEZONE:Europe/Oslo


BEGIN:VEVENT
UID:1bcd577633a14e178d62e1aefa74e21c
URL:https://umbraco.naeringsforeningen.no/moeter/arkiv/leandagen2021/
ORGANIZER;CN=Ola Normann:MAILTO:ola.normann@markedspartner.no
DTSTAMP:20210604T070000Z
DTSTART:20210604T070000Z
DTEND:20210604T111500Z
LAST-MODIFIED:20221031T121951Z
SUMMARY:Lean-dagen 2021: Lean and Green
DESCRIPTION:DIGITALKONFERANSE: Lean-dagen er den viktigste møteplassen i regionen for alle som er opptatt av kontinuerlig forbedring. Årets tema er "Lean and Green".

Næringsministeren deltar. Det samme gjør forfatteren av "Lean and Green", Keivan Zakaei, og ledende representanter fra Equinor, Aarbakke, HitecVision, Worley Rosenberg og Stavanger Universitetssykehus.
X-ALT-DESC:DIGITALKONFERANSE: Lean-dagen er den viktigste m&#248;teplassen i regionen for alle som er opptatt av kontinuerlig forbedring. &#197;rets tema er &quot;Lean and Green&quot;.

N&#230;ringsministeren deltar. Det samme gj&#248;r forfatteren av &quot;Lean and Green&quot;, Keivan Zakaei, og ledende representanter fra Equinor, Aarbakke, HitecVision, Worley Rosenberg og Stavanger Universitetssykehus.
LOCATION:online
END:VEVENT


END:VCALENDAR



