
BEGIN:VCALENDAR
VERSION:2.0
PRODID:-//MarkedsPartner AS//Umbraco CMS//NO
TIMEZONE-ID:Europe/Oslo
X-WR-TIMEZONE:Europe/Oslo


BEGIN:VEVENT
UID:81621d30dbbc48e4aca3acefc14a0173
URL:https://umbraco.naeringsforeningen.no/moeter/arkiv/leandagen-2024/
ORGANIZER;CN=Ola Normann:MAILTO:ola.normann@markedspartner.no
DTSTAMP:20240423T063000Z
DTSTART:20240423T063000Z
DTEND:20240423T130000Z
LAST-MODIFIED:20240424T061601Z
SUMMARY:Leandagen 2024: Lær av hverandre
DESCRIPTION:Leandagen 2024 vil fokusere spesielt på hva den enkelte kan gjøre for å bidra til effektivt forbedringsarbeid i organisasjonen.
X-ALT-DESC:Leandagen 2024 vil fokusere spesielt p&#229; hva den enkelte kan gj&#248;re for &#229; bidra til effektivt forbedringsarbeid i organisasjonen.
LOCATION:Clarion Hotel Energy
END:VEVENT


END:VCALENDAR



