
BEGIN:VCALENDAR
VERSION:2.0
PRODID:-//MarkedsPartner AS//Umbraco CMS//NO
TIMEZONE-ID:Europe/Oslo
X-WR-TIMEZONE:Europe/Oslo


BEGIN:VEVENT
UID:d4c9445bb1c84950b82e810bcd9eff86
URL:https://umbraco.naeringsforeningen.no/moeter/arkiv/leanbesoek-170223/
ORGANIZER;CN=Ola Normann:MAILTO:ola.normann@markedspartner.no
DTSTAMP:20230217T080000Z
DTSTART:20230217T080000Z
DTEND:20230217T103000Z
LAST-MODIFIED:20230222T071544Z
SUMMARY:Lean-besøk til Worley Rosenberg
DESCRIPTION:Bli med på bedriftsbesøk til Worley Rosenberg!
X-ALT-DESC:Bli med p&#229; bedriftsbes&#248;k til Worley Rosenberg!
LOCATION:Rosenberg
END:VEVENT


END:VCALENDAR



