
BEGIN:VCALENDAR
VERSION:2.0
PRODID:-//MarkedsPartner AS//Umbraco CMS//NO
TIMEZONE-ID:Europe/Oslo
X-WR-TIMEZONE:Europe/Oslo


BEGIN:VEVENT
UID:9cab358ef7d147ecb4aee48bf6481fb5
URL:https://umbraco.naeringsforeningen.no/moeter/arkiv/leanbedrbesoek280921/
ORGANIZER;CN=Ola Normann:MAILTO:ola.normann@markedspartner.no
DTSTAMP:20211005T070000Z
DTSTART:20211005T070000Z
DTEND:20211005T090000Z
LAST-MODIFIED:20221031T122541Z
SUMMARY:Leanbesøk til Aarbakke
DESCRIPTION:Bli med på besøk til Aarbakke, og lær mer om bedriftens Smart Factory-konsept!
X-ALT-DESC:Bli med p&#229; bes&#248;k til Aarbakke, og l&#230;r mer om bedriftens Smart Factory-konsept!
LOCATION:
END:VEVENT


END:VCALENDAR



