
BEGIN:VCALENDAR
VERSION:2.0
PRODID:-//MarkedsPartner AS//Umbraco CMS//NO
TIMEZONE-ID:Europe/Oslo
X-WR-TIMEZONE:Europe/Oslo


BEGIN:VEVENT
UID:497b782c09ef4961b9f3d47663ea7c86
URL:https://umbraco.naeringsforeningen.no/moeter/arkiv/lean-workshop/
ORGANIZER;CN=Ola Normann:MAILTO:ola.normann@markedspartner.no
DTSTAMP:20221208T080000Z
DTSTART:20221208T080000Z
DTEND:20221208T120000Z
LAST-MODIFIED:20221213T120405Z
SUMMARY:Hvordan får vi alle til å eie forbedringsarbeidet?
DESCRIPTION:For å lykkes med Lean, er det behov for tydelig ledelse, stort engasjement og eieforhold til målene.
X-ALT-DESC:For &#229; lykkes med Lean, er det behov for tydelig ledelse, stort engasjement og eieforhold til m&#229;lene.
LOCATION:Rosenkildehuset
END:VEVENT


END:VCALENDAR



