
BEGIN:VCALENDAR
VERSION:2.0
PRODID:-//MarkedsPartner AS//Umbraco CMS//NO
TIMEZONE-ID:Europe/Oslo
X-WR-TIMEZONE:Europe/Oslo


BEGIN:VEVENT
UID:4b5a749bf9e242d9b042b9b20a28a905
URL:https://umbraco.naeringsforeningen.no/moeter/arkiv/lean-spill-2024/
ORGANIZER;CN=Ola Normann:MAILTO:ola.normann@markedspartner.no
DTSTAMP:20240924T070000Z
DTSTART:20240924T070000Z
DTEND:20240924T100000Z
LAST-MODIFIED:20240924T124703Z
SUMMARY:Lean-spill: Slik forbedrer du prosessflyten
DESCRIPTION:Lean-spill er en praktisk og morsom metode for både læring og motivasjon. Gjennom å gjøre praktiske øvelser og simuleringer sammen med relevant teori kan Lean-spill både trigge konkurranseinstinktet og bryte barrierer mot endringer i egen virksomhet.
X-ALT-DESC:Lean-spill er en praktisk og morsom metode for b&#229;de l&#230;ring og motivasjon. Gjennom &#229; gj&#248;re praktiske &#248;velser og simuleringer sammen med relevant teori kan Lean-spill b&#229;de trigge konkurranseinstinktet og bryte barrierer mot endringer i egen virksomhet.
LOCATION:Rosenkildehuset
END:VEVENT


END:VCALENDAR



