
BEGIN:VCALENDAR
VERSION:2.0
PRODID:-//MarkedsPartner AS//Umbraco CMS//NO
TIMEZONE-ID:Europe/Oslo
X-WR-TIMEZONE:Europe/Oslo


BEGIN:VEVENT
UID:32ee2b8c402b48c49de35fc26418d77c
URL:https://umbraco.naeringsforeningen.no/moeter/arkiv/lean-dagen/
ORGANIZER;CN=Ola Normann:MAILTO:ola.normann@markedspartner.no
DTSTAMP:20201027T080000Z
DTSTART:20201027T080000Z
DTEND:20201027T141500Z
LAST-MODIFIED:20221031T114320Z
SUMMARY:Lean-dagen 2020
DESCRIPTION:Private og offentlige virksomheter i regionen opplever et massivt omstillingspress. Derfor trenger vi mer enn noen gang å skape en kultur for læring, deling av kunnskap og myndiggjøring av medarbeiderne våre. Derfor er også temaet for årets Lean-dag «Embracing Change». Bli med på den største og viktigste årlige møteplassen for alle som er opptatt av kontinuerlig forbedring og organisasjonsutvikling.
X-ALT-DESC:Private og offentlige virksomheter i regionen opplever et massivt omstillingspress. Derfor trenger vi mer enn noen gang &#229; skape en kultur for l&#230;ring, deling av kunnskap og myndiggj&#248;ring av medarbeiderne v&#229;re. Derfor er ogs&#229; temaet for &#229;rets Lean-dag &#171;Embracing Change&#187;. Bli med p&#229; den st&#248;rste og viktigste &#229;rlige m&#248;teplassen for alle som er opptatt av kontinuerlig forbedring og organisasjonsutvikling.
LOCATION:Clarion Hotel Stavanger (Olavskleiv&#229;)
END:VEVENT


END:VCALENDAR



