
BEGIN:VCALENDAR
VERSION:2.0
PRODID:-//MarkedsPartner AS//Umbraco CMS//NO
TIMEZONE-ID:Europe/Oslo
X-WR-TIMEZONE:Europe/Oslo


BEGIN:VEVENT
UID:c9526aa776a04f5682f77c29a8e54a68
URL:https://umbraco.naeringsforeningen.no/moeter/arkiv/lean-besoek-til-kaarstoe/
ORGANIZER;CN=Ola Normann:MAILTO:ola.normann@markedspartner.no
DTSTAMP:20230928T090000Z
DTSTART:20230928T090000Z
DTEND:20230928T123000Z
LAST-MODIFIED:20230928T163032Z
SUMMARY:Lean-besøk til Kårstø
DESCRIPTION:Kårstø prosessanlegg i Nord-Rogaland er Europas største i sitt slag. Anlegget spiller en nøkkelrolle når det gjelder transport og behandling av gass og kondensat/lettolje fra viktige områder på norsk kontinentalsokkel.
X-ALT-DESC:K&#229;rst&#248; prosessanlegg i Nord-Rogaland er Europas st&#248;rste i sitt slag. Anlegget spiller en n&#248;kkelrolle n&#229;r det gjelder transport og behandling av gass og kondensat/lettolje fra viktige omr&#229;der p&#229; norsk kontinentalsokkel.
LOCATION:K&#229;rst&#248;
END:VEVENT


END:VCALENDAR



