
BEGIN:VCALENDAR
VERSION:2.0
PRODID:-//MarkedsPartner AS//Umbraco CMS//NO
TIMEZONE-ID:Europe/Oslo
X-WR-TIMEZONE:Europe/Oslo


BEGIN:VEVENT
UID:3b292d78f86a446dacfe820aa6313d40
URL:https://umbraco.naeringsforeningen.no/moeter/arkiv/lean-besoek-til-apply/
ORGANIZER;CN=Ola Normann:MAILTO:ola.normann@markedspartner.no
DTSTAMP:20200219T080000Z
DTSTART:20200219T080000Z
DTEND:20200219T100000Z
LAST-MODIFIED:20221031T115644Z
SUMMARY:Lean-besøk hos Apply 
DESCRIPTION:Lær mer om Apply sin Lean-reise. Bli med på bedriftsbesøk!
X-ALT-DESC:L&#230;r mer om Apply sin Lean-reise. Bli med p&#229; bedriftsbes&#248;k!
LOCATION:Apply, Moseidsletta 122, Forus
END:VEVENT


END:VCALENDAR



