
BEGIN:VCALENDAR
VERSION:2.0
PRODID:-//MarkedsPartner AS//Umbraco CMS//NO
TIMEZONE-ID:Europe/Oslo
X-WR-TIMEZONE:Europe/Oslo


BEGIN:VEVENT
UID:f366c1446c7e430bb244e11686c523fd
URL:https://umbraco.naeringsforeningen.no/moeter/arkiv/lean-besoek-til-aero-norway/
ORGANIZER;CN=Ola Normann:MAILTO:ola.normann@markedspartner.no
DTSTAMP:20241120T080000Z
DTSTART:20241120T080000Z
DTEND:20241120T100000Z
LAST-MODIFIED:20241120T111413Z
SUMMARY:Lean på bedriftsbesøk: Slik jobber Aero Norway AS
DESCRIPTION:Aero Norway er en ledende global leverandør innen vedlikehold av flymotorer med over 30 års erfaring. Hvert år overhaler og reparerer de rundt 100 flymotorer for kunder over hele verden. Bli med på bedriftsbesøk til Stavanger lufthavn, Sola – og lær mer om Aero Norways Lean-reise!
X-ALT-DESC:Aero Norway er en ledende global leverand&#248;r innen vedlikehold av flymotorer med over 30 &#229;rs erfaring. Hvert &#229;r overhaler og reparerer de rundt 100 flymotorer for kunder over hele verden. Bli med p&#229; bedriftsbes&#248;k til Stavanger lufthavn, Sola – og l&#230;r mer om Aero Norways Lean-reise!
LOCATION:Flyplassvegen 220, Sola
END:VEVENT


END:VCALENDAR



