
BEGIN:VCALENDAR
VERSION:2.0
PRODID:-//MarkedsPartner AS//Umbraco CMS//NO
TIMEZONE-ID:Europe/Oslo
X-WR-TIMEZONE:Europe/Oslo


BEGIN:VEVENT
UID:16bf6f21c98c4318bee74e1216a5565b
URL:https://umbraco.naeringsforeningen.no/moeter/arkiv/lansering-likestillingsprogrammet/
ORGANIZER;CN=Ola Normann:MAILTO:ola.normann@markedspartner.no
DTSTAMP:20200116T130000Z
DTSTART:20200116T130000Z
DTEND:20200116T150000Z
LAST-MODIFIED:20221031T115832Z
SUMMARY:Lansering av 50/50 Likestillingsprogram
DESCRIPTION:Vi i Næringsforeningens ressursgruppe 50/50 har etablert et konkret mål for likestilling mellom kjønnene i næringslivet i Stavanger-regionen. Nå inviterer vi deg og ditt selskap til å ta steget fra diskusjon til handling.
X-ALT-DESC:Vi i N&#230;ringsforeningens ressursgruppe 50/50 har etablert et konkret m&#229;l for likestilling mellom kj&#248;nnene i n&#230;ringslivet i Stavanger-regionen. N&#229; inviterer vi deg og ditt selskap til &#229; ta steget fra diskusjon til handling.
LOCATION:Kvistn, L&#248;kkeveien 111.
END:VEVENT


END:VCALENDAR



