
BEGIN:VCALENDAR
VERSION:2.0
PRODID:-//MarkedsPartner AS//Umbraco CMS//NO
TIMEZONE-ID:Europe/Oslo
X-WR-TIMEZONE:Europe/Oslo


BEGIN:VEVENT
UID:149569cbff1440008ea245f685b86e4a
URL:https://umbraco.naeringsforeningen.no/moeter/arkiv/laks-skatt/
ORGANIZER;CN=Ola Normann:MAILTO:ola.normann@markedspartner.no
DTSTAMP:20200220T123000Z
DTSTART:20200220T123000Z
DTEND:20200220T153000Z
LAST-MODIFIED:20221031T115656Z
SUMMARY:Laks og skatt
DESCRIPTION:Rammer superskatt på laks verdiskaping og innovasjon?
X-ALT-DESC:Rammer superskatt p&#229; laks verdiskaping og innovasjon?
LOCATION:Rosenkildehuset
END:VEVENT


END:VCALENDAR



