
BEGIN:VCALENDAR
VERSION:2.0
PRODID:-//MarkedsPartner AS//Umbraco CMS//NO
TIMEZONE-ID:Europe/Oslo
X-WR-TIMEZONE:Europe/Oslo


BEGIN:VEVENT
UID:78557ed0159842f9bec232e2f4ebbb7e
URL:https://umbraco.naeringsforeningen.no/moeter/arkiv/kunstig-intelligens-091220/
ORGANIZER;CN=Ola Normann:MAILTO:ola.normann@markedspartner.no
DTSTAMP:20201209T100000Z
DTSTART:20201209T100000Z
DTEND:20201209T111500Z
LAST-MODIFIED:20221031T115701Z
SUMMARY:Vinn markedet med kunstig intelligens
DESCRIPTION:DIGITALKONFERANSE: Hva er egentlig kunstig intelligens (AI), og hvordan vil det påvirke fremtidens suksessfulle bedrifter økonomisk, effektivt og organisatorisk?
X-ALT-DESC:DIGITALKONFERANSE: Hva er egentlig kunstig intelligens (AI), og hvordan vil det p&#229;virke fremtidens suksessfulle bedrifter &#248;konomisk, effektivt og organisatorisk?
LOCATION:Online
END:VEVENT


END:VCALENDAR



