
BEGIN:VCALENDAR
VERSION:2.0
PRODID:-//MarkedsPartner AS//Umbraco CMS//NO
TIMEZONE-ID:Europe/Oslo
X-WR-TIMEZONE:Europe/Oslo


BEGIN:VEVENT
UID:c5dcccea3d2c491bbd16c02d3b2e3098
URL:https://umbraco.naeringsforeningen.no/moeter/arkiv/kunsten-aa-formidle_250820/
ORGANIZER;CN=Ola Normann:MAILTO:ola.normann@markedspartner.no
DTSTAMP:20200825T063000Z
DTSTART:20200825T063000Z
DTEND:20200825T090000Z
LAST-MODIFIED:20221031T121553Z
SUMMARY:Kunsten å formidle
DESCRIPTION:Kommunikasjon, selvledelse og inspirasjon er stikkord for denne formiddagen, hvor Karete Kristoffersen kommer til Næringsforeningen for å dele av sin lange ledererfaring og uformelt sammen med gjestene vil snakke om det å formidle, aktivt lytte til og å kommunisere med hverandre.
X-ALT-DESC:Kommunikasjon, selvledelse og inspirasjon er stikkord for denne formiddagen, hvor Karete Kristoffersen kommer til N&#230;ringsforeningen for &#229; dele av sin lange ledererfaring og uformelt sammen med gjestene vil snakke om det &#229; formidle, aktivt lytte til og &#229; kommunisere med hverandre.
LOCATION:Rosenkildehuset
END:VEVENT


END:VCALENDAR



