
BEGIN:VCALENDAR
VERSION:2.0
PRODID:-//MarkedsPartner AS//Umbraco CMS//NO
TIMEZONE-ID:Europe/Oslo
X-WR-TIMEZONE:Europe/Oslo


BEGIN:VEVENT
UID:91989e72b6f5451a97c602bcf2660156
URL:https://umbraco.naeringsforeningen.no/moeter/arkiv/krisepakken_februar2021-avlyst/
ORGANIZER;CN=Ola Normann:MAILTO:ola.normann@markedspartner.no
DTSTAMP:20210223T100000Z
DTSTART:20210223T100000Z
DTEND:20210223T113000Z
LAST-MODIFIED:20221031T120613Z
SUMMARY:Krisepakkene: Siste nytt, råd og veiledning AVLYST
DESCRIPTION:DIGITALKONFERANSE: Det er masse nytt! Men hvilke endringer i de nye krisepakkene er relevant for deg? Og hvordan kan du og din bedrift ta del i disse? Vi gir deg status, råd og veiledning!
X-ALT-DESC:DIGITALKONFERANSE: Det er masse nytt! Men hvilke endringer i de nye krisepakkene er relevant for deg? Og hvordan kan du og din bedrift ta del i disse? Vi gir deg status, r&#229;d og veiledning!
LOCATION:Online
END:VEVENT


END:VCALENDAR



