
BEGIN:VCALENDAR
VERSION:2.0
PRODID:-//MarkedsPartner AS//Umbraco CMS//NO
TIMEZONE-ID:Europe/Oslo
X-WR-TIMEZONE:Europe/Oslo


BEGIN:VEVENT
UID:63921308cec64306b28890acaf5e94e3
URL:https://umbraco.naeringsforeningen.no/moeter/arkiv/kriminalitetsforebygging/
ORGANIZER;CN=Ola Normann:MAILTO:ola.normann@markedspartner.no
DTSTAMP:20200117T070000Z
DTSTART:20200117T070000Z
DTEND:20200117T090000Z
LAST-MODIFIED:20221031T115841Z
SUMMARY:Slik beskytter du deg mot økonomisk kriminalitet
DESCRIPTION:Bedrifter i vår region svindles for millioner. Velkommen til et informasjonsmøte med politiet om forebygging av økonomisk kriminalitet retta mot næringslivet på flere nivå. Politiet gir oss tips og råd rundt trusselbildet og forebygging av risiko for å bli utsatt for dette i egen bedrift.
X-ALT-DESC:Bedrifter i v&#229;r region svindles for millioner. Velkommen til et informasjonsm&#248;te med politiet om forebygging av &#248;konomisk kriminalitet retta mot n&#230;ringslivet p&#229; flere niv&#229;. Politiet gir oss tips og r&#229;d rundt trusselbildet og forebygging av risiko for &#229; bli utsatt for dette i egen bedrift.
LOCATION:Rosenkildehuset
END:VEVENT


END:VCALENDAR



