
BEGIN:VCALENDAR
VERSION:2.0
PRODID:-//MarkedsPartner AS//Umbraco CMS//NO
TIMEZONE-ID:Europe/Oslo
X-WR-TIMEZONE:Europe/Oslo


BEGIN:VEVENT
UID:25b395e025c440039a7b4b7a9f0f50d6
URL:https://umbraco.naeringsforeningen.no/moeter/arkiv/koronahverdag-021220-1/
ORGANIZER;CN=Ola Normann:MAILTO:ola.normann@markedspartner.no
DTSTAMP:20201202T100000Z
DTSTART:20201202T100000Z
DTEND:20201202T113000Z
LAST-MODIFIED:20221031T115538Z
SUMMARY:Slik takler du dagene med hjemmekontor
DESCRIPTION:DIGITALKONFERANSE: Hundretusenvis av nordmenn har returnert til hjemmekontoret de siste ukene.  Hvordan holder du motivasjonen oppe, og hvordan holder du kontakten med kollegaene dine?
X-ALT-DESC:DIGITALKONFERANSE: Hundretusenvis av nordmenn har returnert til hjemmekontoret de siste ukene.  Hvordan holder du motivasjonen oppe, og hvordan holder du kontakten med kollegaene dine?
LOCATION:Online
END:VEVENT


END:VCALENDAR



