
BEGIN:VCALENDAR
VERSION:2.0
PRODID:-//MarkedsPartner AS//Umbraco CMS//NO
TIMEZONE-ID:Europe/Oslo
X-WR-TIMEZONE:Europe/Oslo


BEGIN:VEVENT
UID:69ac3ceeab294f14acc14944030075f7
URL:https://umbraco.naeringsforeningen.no/moeter/arkiv/kontrakter_010621/
ORGANIZER;CN=Ola Normann:MAILTO:ola.normann@markedspartner.no
DTSTAMP:20210601T120000Z
DTSTART:20210601T120000Z
DTEND:20210601T133000Z
LAST-MODIFIED:20221031T121836Z
SUMMARY:Solide kontrakter
DESCRIPTION:DIGITALKONFERANSE: Et håndtrykk er ikke lenger nok hvis det oppstår uenighet mellom kunde og leverandør. Noen områder ender oftere  i støy og misnøye enn andre. Det er disse konfliktene vi skal forebygge ved å lage solide kontrakter fra starten av.
X-ALT-DESC:DIGITALKONFERANSE: Et h&#229;ndtrykk er ikke lenger nok hvis det oppst&#229;r uenighet mellom kunde og leverand&#248;r. Noen omr&#229;der ender oftere  i st&#248;y og misn&#248;ye enn andre. Det er disse konfliktene vi skal forebygge ved &#229; lage solide kontrakter fra starten av.
LOCATION:online
END:VEVENT


END:VCALENDAR



